BEGIN:VCALENDAR
VERSION:2.0
PRODID:-//KUIVI ALMACENES - ECPv6.15.15//NONSGML v1.0//EN
CALSCALE:GREGORIAN
METHOD:PUBLISH
X-ORIGINAL-URL:https://kuivialmacenes.es
X-WR-CALDESC:Eventos para KUIVI ALMACENES
REFRESH-INTERVAL;VALUE=DURATION:PT1H
X-Robots-Tag:noindex
X-PUBLISHED-TTL:PT1H
BEGIN:VTIMEZONE
TZID:Europe/Madrid
BEGIN:DAYLIGHT
TZOFFSETFROM:+0100
TZOFFSETTO:+0200
TZNAME:CEST
DTSTART:20250330T010000
END:DAYLIGHT
BEGIN:STANDARD
TZOFFSETFROM:+0200
TZOFFSETTO:+0100
TZNAME:CET
DTSTART:20251026T010000
END:STANDARD
BEGIN:DAYLIGHT
TZOFFSETFROM:+0100
TZOFFSETTO:+0200
TZNAME:CEST
DTSTART:20260329T010000
END:DAYLIGHT
BEGIN:STANDARD
TZOFFSETFROM:+0200
TZOFFSETTO:+0100
TZNAME:CET
DTSTART:20261025T010000
END:STANDARD
BEGIN:DAYLIGHT
TZOFFSETFROM:+0100
TZOFFSETTO:+0200
TZNAME:CEST
DTSTART:20270328T010000
END:DAYLIGHT
BEGIN:STANDARD
TZOFFSETFROM:+0200
TZOFFSETTO:+0100
TZNAME:CET
DTSTART:20271031T010000
END:STANDARD
END:VTIMEZONE
BEGIN:VEVENT
DTSTART;TZID=Europe/Madrid:20260326T000000
DTEND;TZID=Europe/Madrid:20260326T235959
DTSTAMP:20260425T204823
CREATED:20260323T101542Z
LAST-MODIFIED:20260323T101542Z
UID:7197-1774483200-1774569599@kuivialmacenes.es
SUMMARY:LARA HOEVENAAR & MARCO MARTÍNEZ
DESCRIPTION:jueves 26 de marzo / 21:00 \n\n\n\no:Asturias.. \n\n\n\ne:Acceso libre.. \n\n\n\nHabituales de la escena jazzística de Asturias\, en 2022 Lara Hoevenaar y Marco Martinez exploran el repertorio tradicional de jazz con voz\, creando arreglos originales para voz y guitarra.
URL:https://kuivialmacenes.es/event/lara-hoevenaar-marco-martinez/
CATEGORIES:Gratuito,Sala
ATTACH;FMTTYPE=image/jpeg:https://kuivialmacenes.es/wp-content/uploads/2026/03/LARA.jpeg
END:VEVENT
END:VCALENDAR