BEGIN:VCALENDAR
VERSION:2.0
PRODID:-//KUIVI ALMACENES - ECPv6.15.15//NONSGML v1.0//EN
CALSCALE:GREGORIAN
METHOD:PUBLISH
X-WR-CALNAME:KUIVI ALMACENES
X-ORIGINAL-URL:https://kuivialmacenes.es
X-WR-CALDESC:Eventos para KUIVI ALMACENES
REFRESH-INTERVAL;VALUE=DURATION:PT1H
X-Robots-Tag:noindex
X-PUBLISHED-TTL:PT1H
BEGIN:VTIMEZONE
TZID:Europe/Madrid
BEGIN:DAYLIGHT
TZOFFSETFROM:+0100
TZOFFSETTO:+0200
TZNAME:CEST
DTSTART:20250330T010000
END:DAYLIGHT
BEGIN:STANDARD
TZOFFSETFROM:+0200
TZOFFSETTO:+0100
TZNAME:CET
DTSTART:20251026T010000
END:STANDARD
BEGIN:DAYLIGHT
TZOFFSETFROM:+0100
TZOFFSETTO:+0200
TZNAME:CEST
DTSTART:20260329T010000
END:DAYLIGHT
BEGIN:STANDARD
TZOFFSETFROM:+0200
TZOFFSETTO:+0100
TZNAME:CET
DTSTART:20261025T010000
END:STANDARD
BEGIN:DAYLIGHT
TZOFFSETFROM:+0100
TZOFFSETTO:+0200
TZNAME:CEST
DTSTART:20270328T010000
END:DAYLIGHT
BEGIN:STANDARD
TZOFFSETFROM:+0200
TZOFFSETTO:+0100
TZNAME:CET
DTSTART:20271031T010000
END:STANDARD
END:VTIMEZONE
BEGIN:VEVENT
DTSTART;TZID=Europe/Madrid:20260705T000000
DTEND;TZID=Europe/Madrid:20260705T235959
DTSTAMP:20260425T141526
CREATED:20260423T120122Z
LAST-MODIFIED:20260423T120123Z
UID:7317-1783209600-1783295999@kuivialmacenes.es
SUMMARY:FRE GARCIA
DESCRIPTION:domingo 5 de julio / 14:00 \n\n\n\no:León.. \n\n\n\ne:Acceso libre.. \n\n\n\nFre García presenta un directo íntimo y honesto donde la voz y la guitarra construyen una propuesta emocional y cercana. Sus canciones se mueven entre la sensibilidad y la intensidad\, conectando desde lo esencial. Una nueva voz dentro del circuito independiente que comienza a abrirse paso en directo.
URL:https://kuivialmacenes.es/event/fre-garcia/
CATEGORIES:Gratuito,Sala
ATTACH;FMTTYPE=image/jpeg:https://kuivialmacenes.es/wp-content/uploads/2026/04/fregarcia.jpg
END:VEVENT
END:VCALENDAR