BEGIN:VCALENDAR
VERSION:2.0
PRODID:-//KUIVI ALMACENES - ECPv6.15.15//NONSGML v1.0//EN
CALSCALE:GREGORIAN
METHOD:PUBLISH
X-WR-CALNAME:KUIVI ALMACENES
X-ORIGINAL-URL:https://kuivialmacenes.es
X-WR-CALDESC:Eventos para KUIVI ALMACENES
REFRESH-INTERVAL;VALUE=DURATION:PT1H
X-Robots-Tag:noindex
X-PUBLISHED-TTL:PT1H
BEGIN:VTIMEZONE
TZID:Europe/Madrid
BEGIN:DAYLIGHT
TZOFFSETFROM:+0100
TZOFFSETTO:+0200
TZNAME:CEST
DTSTART:20250330T010000
END:DAYLIGHT
BEGIN:STANDARD
TZOFFSETFROM:+0200
TZOFFSETTO:+0100
TZNAME:CET
DTSTART:20251026T010000
END:STANDARD
BEGIN:DAYLIGHT
TZOFFSETFROM:+0100
TZOFFSETTO:+0200
TZNAME:CEST
DTSTART:20260329T010000
END:DAYLIGHT
BEGIN:STANDARD
TZOFFSETFROM:+0200
TZOFFSETTO:+0100
TZNAME:CET
DTSTART:20261025T010000
END:STANDARD
BEGIN:DAYLIGHT
TZOFFSETFROM:+0100
TZOFFSETTO:+0200
TZNAME:CEST
DTSTART:20270328T010000
END:DAYLIGHT
BEGIN:STANDARD
TZOFFSETFROM:+0200
TZOFFSETTO:+0100
TZNAME:CET
DTSTART:20271031T010000
END:STANDARD
END:VTIMEZONE
BEGIN:VEVENT
DTSTART;TZID=Europe/Madrid:20260306T000000
DTEND;TZID=Europe/Madrid:20260306T235959
DTSTAMP:20260421T223443
CREATED:20260209T110408Z
LAST-MODIFIED:20260209T110503Z
UID:6928-1772755200-1772841599@kuivialmacenes.es
SUMMARY:PRESA
DESCRIPTION:viernes 6 de marzo / 21:00 \n\n\n\no:Asturias.. \n\n\n\ne:Acceso libre.. \n\n\n\nPresa comenzó en 2022 como el proyecto personal de Samuel Fonseca. Ahora\, renacido como cuarteto\, han mutado hacia un conjunto de rock visceral y anguloso que bebe tanto del blues cubista como del punk y la No Wave. Lo que comenzó como un retorcido proyecto de experimentación en solitario ha mutado en grupo ambicioso\, como unos Bad Seeds decididos y contemporáneos. Samuel se consagra como un crooner moderno\, febril y honesto\, ahora respaldado por una banda en estado de gracia completamente entregada a una visión.
URL:https://kuivialmacenes.es/event/presa/
CATEGORIES:Gratuito,Recomendado,Sala
ATTACH;FMTTYPE=image/jpeg:https://kuivialmacenes.es/wp-content/uploads/2026/02/PRESAA.jpg
END:VEVENT
BEGIN:VEVENT
DTSTART;TZID=Europe/Madrid:20260313T000000
DTEND;TZID=Europe/Madrid:20260313T235959
DTSTAMP:20260421T223443
CREATED:20260202T151237Z
LAST-MODIFIED:20260209T110632Z
UID:6851-1773360000-1773446399@kuivialmacenes.es
SUMMARY:VERA FAUNA
DESCRIPTION:viernes 13 de marzo / 21:30 \n\n\n\no: Sevilla.. \n\n\n\nENTRADAS\n\n\n\nFormada en Sevilla en 2015\, Vera Fauna celebra casi diez años juntos. La banda lanzó su primer álbum\, «Dudas y flores»\, en 2020\, fusionando folclore y neopsicodelia\, lo que les llevó a crear «Los años mejores» en 2022\, consolidando su estilo distintivo. Con Kike Suárez\, Javi Blanco\, Juanlu Romero\, Jaime Sobrino y Alejandro Fernández\, siguen explorando su identidad musical. Su próximo trabajo\, «Dime dónde estamos» (2025)\, mezcla influencias de rap\, R&B y rock clásico\, con colaboraciones de Ángeles Toledano y Noni Meyers. Sin perder su esencia sureña\, su música refleja un costumbrismo contemporáneo\, hablando de lo cotidiano con humor y cercanía.
URL:https://kuivialmacenes.es/event/vera-fauna/
CATEGORIES:Entrada,Recomendado,Sala
ATTACH;FMTTYPE=image/jpeg:https://kuivialmacenes.es/wp-content/uploads/2026/02/vera-fauna.jpg
END:VEVENT
BEGIN:VEVENT
DTSTART;TZID=Europe/Madrid:20260314T000000
DTEND;TZID=Europe/Madrid:20260314T235959
DTSTAMP:20260421T223443
CREATED:20260220T100226Z
LAST-MODIFIED:20260220T100451Z
UID:7015-1773446400-1773532799@kuivialmacenes.es
SUMMARY:FOTOCOPIA + CACHITO TURULO
DESCRIPTION:sábado 14 de marzo / 21:00 \n\n\n\ne:Acceso libre.. \n\n\n\no:Asturias/Galicia.. \n\n\n\nBajo el sugerente nombre de Cachito Turulo se esconde Ernesto Avelino\, mitad de los ya legendarios Fasenuova y uno de los artistas más inquietos de la región. El mierense recorrió con su dúo electrónico los escenarios de media Europa\, convirtiéndose en referente internacional del industrial y el EBM. Su nueva evolución artística despliega un sonido futurista y sórdido\, heredero del footwork y del drill y emparentado con los sonidos electrónicos más vanguardistas. Energía festiva y salvaje\, historias callejeras y nocturnidad desplegadas a través de ritmos frenéticos y sintetizadores abrasivos. \n\n\n\nFotocopia es una hipótesis. Un primo suyo le dijo el otro día por whatsapp: «¡Hola Teo! Detonación múltiple lo tuyo. Un directo visceral e inquietante por lo poco que hemos visto. Es la mejor forma de terrorismo ¿intelectualmente violento?» Una amiga\, también\, después de un concierto\, a viva voz: “Música de locos ¡Lo que a mí me gusta!” Ese mismo día\, una muchacha le agradeció el directo y comentó que había podido “sentir su dolor”. Fotocopia no pudo comprenderlo; simplemente es gallego. La cosa no va sobre el dolor\, sino sobre la lluvia y el cemento y de cómo aprieta este disfraz. Fotocopia es parte de la plataforma de hackers espirituales INTERRUPTOR.
URL:https://kuivialmacenes.es/event/fotocopia-cachito-turulo/
CATEGORIES:Gratuito,Recomendado,Sala
ATTACH;FMTTYPE=image/jpeg:https://kuivialmacenes.es/wp-content/uploads/2026/02/FOTOCOPIA.jpg
END:VEVENT
BEGIN:VEVENT
DTSTART;TZID=Europe/Madrid:20260320T000000
DTEND;TZID=Europe/Madrid:20260320T235900
DTSTAMP:20260421T223443
CREATED:20260218T102801Z
LAST-MODIFIED:20260313T093918Z
UID:6996-1773964800-1774051140@kuivialmacenes.es
SUMMARY:SKAMA LA REDE
DESCRIPTION:viernes 20 de marzo / 21:30 \n\n\n\no:Asturias.. \n\n\n\nENTRADAS AGOTADAS\n\n\n\nSkama La Rede va celebrar en Kuivi Almacenes la so Folixa 20 años. Un conciertu bien especial pa festexar les dos décades de la banda enriba del escenariu y el so nuevu trabayu col mesmu nome. Un conciertu irrepetible de dos hores de duración cola collaboración de más d’una decena de collacios d’otres bandes asturianes y d’ámbitu estatal. La banda va ufiertar un repertoriu que va repasar toles époques del grupu. \n\n\n\nEl DJ Avante’l Pueblu va encargarse d’abrir y pesllar la Folixa 20 años.
URL:https://kuivialmacenes.es/event/skama-la-rede/
CATEGORIES:Recomendado,Sala,Sold out
ATTACH;FMTTYPE=image/jpeg:https://kuivialmacenes.es/wp-content/uploads/2026/02/SKAMALAREDE.jpeg
END:VEVENT
BEGIN:VEVENT
DTSTART;TZID=Europe/Madrid:20260321T000000
DTEND;TZID=Europe/Madrid:20260321T235959
DTSTAMP:20260421T223443
CREATED:20260123T171022Z
LAST-MODIFIED:20260204T140930Z
UID:6762-1774051200-1774137599@kuivialmacenes.es
SUMMARY:TEKSUO + AS LIFE BURNS + MAVERICK
DESCRIPTION:sábado 21 de marzo / 21:30 \n\n\n\no: Asturias.. \n\n\n\nENTRADAS\n\n\n\nLos asturianos Teksuo (Metalcore) presentarán su nuevo disco «The Glow Before I Go»\, último trabajo de la banda que consta de 12 canciones y que no dejara indiferente a cualquier fan del metal moderno con sus versos frenéticos\, pegadizos estribillos melódicos\, potentes breakdowns y una base electrónica predominante. Esta cita en el KUIVI será la primera fecha de una gira que les llevará por las principales ciudades de la península. \n\n\n\nLes acompañaran en esta fecha las bandas As Life Burns (Deathcore) y Maverick (Punk Rock).
URL:https://kuivialmacenes.es/event/teksuo/
CATEGORIES:Entrada,Recomendado,Sala
ATTACH;FMTTYPE=image/jpeg:https://kuivialmacenes.es/wp-content/uploads/2026/01/PROMO_FULL-ENTRADAS-scaled.jpg
END:VEVENT
BEGIN:VEVENT
DTSTART;TZID=Europe/Madrid:20260322T173000
DTEND;TZID=Europe/Madrid:20260322T235959
DTSTAMP:20260421T223443
CREATED:20260123T171848Z
LAST-MODIFIED:20260318T123755Z
UID:6765-1774200600-1774223999@kuivialmacenes.es
SUMMARY:THE JAZZ ROOM III
DESCRIPTION:domingo 22 de marzo / 17:30 \n\n\nPRIMER PASE – 17:30SEGUNDO PASE – 19:30\n\n\n⭐ ¡Ven a disfrutar de The Jazz Room en Oviedo! Con una mezcla de clásicos cuidadosamente elegidos y una parte de improvisación\, esta actuación de música en directo te hace viajar por las raíces de este género revolucionario. ¡Consigue tus entradas ahora para The Jazz Room: Un Viaje al Corazón de Nueva Orleans en Oviedo! \n\n\n\nPrograma \n\n\n\n\nSt. James Infirmary – Irving Mills\n\n\n\nWhen The Saints Go Marching In – Jazz Standard\n\n\n\nOn the Sunny Side of the Street – Jimmy McHugh\n\n\n\nBasin Saint Blues – Spencer Williams\n\n\n\nHello Dolly – Louis Armstrong\n\n\n\n…y muchos más\n\n\n\n\nDescripciónThe Jazz Room es un viaje en el tiempo a la cuna de este género icónico. Ubicado en un bar de estilo callejero que recrea el Nueva Orleans de la década de 1920\, este espectáculo de jazz en directo promete una noche de alma\, pasión y ritmo. Pide un cóctel en el bar y observa cómo talentosos músicos iluminan el escenario. Disfruta de una selección de las mejores melodías de ‘hot jazz’\, una mezcla única de ragtime\, metales y blues\, además de momentos de improvisación espontánea\, un sello distintivo del verdadero jazz. Sé parte del legado vivo del jazz\, donde cada nota cuenta una historia de libertad\, creatividad y camaradería. ¡Consigue tus entradas ahora para The Jazz Room: Un Viaje al Corazón de Nueva Orleans en Oviedo! \n\n\n\nENTRADAS \n\n\n\nPRIMER PASE 17:30 / SEGUNDO PASE 19:30
URL:https://kuivialmacenes.es/event/the-jazz-room-un-viaje-al-corazon-de-nueva-orleans-fever/
CATEGORIES:Entrada,Recomendado,Sala
ATTACH;FMTTYPE=image/avif:https://kuivialmacenes.es/wp-content/uploads/2026/01/jazz-room-fever.avif
END:VEVENT
END:VCALENDAR