BEGIN:VCALENDAR
VERSION:2.0
PRODID:-//KUIVI ALMACENES - ECPv6.15.15//NONSGML v1.0//EN
CALSCALE:GREGORIAN
METHOD:PUBLISH
X-ORIGINAL-URL:https://kuivialmacenes.es
X-WR-CALDESC:Eventos para KUIVI ALMACENES
REFRESH-INTERVAL;VALUE=DURATION:PT1H
X-Robots-Tag:noindex
X-PUBLISHED-TTL:PT1H
BEGIN:VTIMEZONE
TZID:Europe/Madrid
BEGIN:DAYLIGHT
TZOFFSETFROM:+0100
TZOFFSETTO:+0200
TZNAME:CEST
DTSTART:20250330T010000
END:DAYLIGHT
BEGIN:STANDARD
TZOFFSETFROM:+0200
TZOFFSETTO:+0100
TZNAME:CET
DTSTART:20251026T010000
END:STANDARD
BEGIN:DAYLIGHT
TZOFFSETFROM:+0100
TZOFFSETTO:+0200
TZNAME:CEST
DTSTART:20260329T010000
END:DAYLIGHT
BEGIN:STANDARD
TZOFFSETFROM:+0200
TZOFFSETTO:+0100
TZNAME:CET
DTSTART:20261025T010000
END:STANDARD
BEGIN:DAYLIGHT
TZOFFSETFROM:+0100
TZOFFSETTO:+0200
TZNAME:CEST
DTSTART:20270328T010000
END:DAYLIGHT
BEGIN:STANDARD
TZOFFSETFROM:+0200
TZOFFSETTO:+0100
TZNAME:CET
DTSTART:20271031T010000
END:STANDARD
END:VTIMEZONE
BEGIN:VEVENT
DTSTART;TZID=Europe/Madrid:20260501T000000
DTEND;TZID=Europe/Madrid:20260501T235959
DTSTAMP:20260421T222129
CREATED:20260331T105243Z
LAST-MODIFIED:20260331T105458Z
UID:7259-1777593600-1777679999@kuivialmacenes.es
SUMMARY:EL DIABLO DE SHANGAI + CORTE!
DESCRIPTION:viernes 1 de mayo / 21:00 \n\n\n\ne:Acceso libre.. \n\n\n\nEl Diablo De Shanghai es una banda de rock nacida en Barcelona que ha emergido desde el underground con un sonido crudo de guitarras\, entre el garage\, el post-punk y el indie rock. Formado por Juanito Hit\, Juana Poch\, Víctor Vidal y Albert Muñoz. Tras sus primeros EP y el álbum 113 Pasos Adelante en el Ensanche\, la banda sigue afianzando su identidad con discos como Testamento y un directo cada vez más potente. Te gustarán si te gusta el indie rock de siempre y no tienes miedo a demostrarlo. \n\n\n\nCORTE! es Gonzalo Barbero (Madrid\, 1997) y una larga colección de obsesiones musicales y personales que han acabado encontrando vida en forma de canciones compuestas y grabadas en su propia casa. El pinball de la precariedad laboral\, y esa extraña autodetermianción que dan los tiempos preapocalípticos\, fueron pretextos más que suficientes para que canciones que giran en torno a fetiches\, anécdotas o simples descargas de frustración terminasen por encontrar un tiempo y un lugar en el que desarrollarse. Algunas veces en forma de demos que se completaban en descansos laborales entre letras y algunas de las peores notas de voz jamás grabadas en los asientos traseros de los autobuses de la EMT; otras en el puro divertimento hacer canciones. Entre la influencia de la música Talking Heads o Lizzy Mercier; hasta bandas actuales como Dry Cleaning o Yves Tumor. La ironía y el desdén se encuentran con una propuesta musical que él mismo define como “pop crudo” en guitarras secas\, y un sentido del humor ácido\, aunque siempre servido con mimo.
URL:https://kuivialmacenes.es/event/el-diablo-de-shangai-corte/
CATEGORIES:Gratuito,Recomendado,Sala
ATTACH;FMTTYPE=image/jpeg:https://kuivialmacenes.es/wp-content/uploads/2026/03/eldiablodeshangai.jpg
END:VEVENT
BEGIN:VEVENT
DTSTART;TZID=Europe/Madrid:20260528T000000
DTEND;TZID=Europe/Madrid:20260528T235959
DTSTAMP:20260421T222129
CREATED:20260304T103806Z
LAST-MODIFIED:20260304T104055Z
UID:7076-1779926400-1780012799@kuivialmacenes.es
SUMMARY:TCHOTCHKE
DESCRIPTION:jueves 28 de mayo / 21:00 \n\n\n\no:EEUU.. \n\n\n\ne:Acceso libre.. \n\n\n\nComo unos Pop Rocks estallando en la lengua\, las neoyorquinas Tchotchke practican un rock’n’roll clásico recubierto de caramelo. Dulce por fuera pero lleno de sorpresas cuando se saborea de verdad\, el trío lleva conquistando al público desde 2021 con un sonido con ecos de Rundgren y unas armonías vocales impecables.
URL:https://kuivialmacenes.es/event/tchotchke/
CATEGORIES:Gratuito,Recomendado,Sala
ATTACH;FMTTYPE=image/jpeg:https://kuivialmacenes.es/wp-content/uploads/2026/03/tch.jpg
END:VEVENT
BEGIN:VEVENT
DTSTART;TZID=Europe/Madrid:20260529T000000
DTEND;TZID=Europe/Madrid:20260529T235959
DTSTAMP:20260421T222129
CREATED:20260217T101137Z
LAST-MODIFIED:20260217T101251Z
UID:6967-1780012800-1780099199@kuivialmacenes.es
SUMMARY:PÁJAROS VAMPIRO
DESCRIPTION:viernes 29 de mayo / 21:00 \n\n\n\no:México.. \n\n\n\ne:Acceso libre.. \n\n\n\nPájaros Vampiro es una banda mexicana de rock alternativo con espíritu DIY que formará parte de Primavera Sound 2026\, consolidando su proyección internacional dentro del circuito independiente. En 2025 lanzaron su álbum debut SE HACE ASÍ\, con el que recorrieron más de 26 estados de la República Mexicana. A lo largo de su carrera han abierto para The Drums y han compartido escenario con Boom Boom Kid\, Carolina Durante y Bestia Bebé\, fortaleciendo su presencia en la escena iberoamericana.La historia de Pájaros Vampiro comienza cuando Hugo y Abraham\, con apenas 17 años\, empezaron a hacer música entre patinetas y partidas de Rock Band. Poco después se sumó Edi en la guitarra para grabar Miedo y Deseo\, su primer EP\, registrado en un estudio casero. Fue un debut de punk crudo y urgente\, con letras sobre crecer en la ciudad más grande del mundo y sentir rabia sin tener del todo claro hacia quién. Ese primer material les permitió comenzar a girar de manera autogestiva y compartir escenario con las bandas de punk mexicanas que admiraban. Más adelante lanzaron Buscando Rebeldía\, producido por Toño Montes (Los Románticos de Zacatecas)\, marcando una transición: del lo-fi accidental a una estética sonora intencional. Fue en ese punto cuando Pájaros Vampiro dejó de ser vista como una banda adolescente para comenzar a captar la atención de medios especializados y consolidarse como una de las propuestas emergentes más sólidas de su generación. \n\n\n\nHoy\, con un sonido más definido y una identidad cada vez más contundente\, Pájaros Vampiro no se detiene: 2026 los encuentra en plena expansión\, tocando\, girando y llevando SE HACE ASÍ a nuevos territorios. Porque si algo han demostrado es que lo suyo no es una promesa futura\, sino un presente en movimiento.
URL:https://kuivialmacenes.es/event/pajaros-vampiro/
CATEGORIES:Gratuito,Recomendado,Sala
ATTACH;FMTTYPE=image/jpeg:https://kuivialmacenes.es/wp-content/uploads/2026/02/IMG_1702-1.jpg
END:VEVENT
END:VCALENDAR