BEGIN:VCALENDAR
VERSION:2.0
PRODID:-//KUIVI ALMACENES - ECPv6.15.15//NONSGML v1.0//EN
CALSCALE:GREGORIAN
METHOD:PUBLISH
X-WR-CALNAME:KUIVI ALMACENES
X-ORIGINAL-URL:https://kuivialmacenes.es
X-WR-CALDESC:Eventos para KUIVI ALMACENES
REFRESH-INTERVAL;VALUE=DURATION:PT1H
X-Robots-Tag:noindex
X-PUBLISHED-TTL:PT1H
BEGIN:VTIMEZONE
TZID:Europe/Madrid
BEGIN:DAYLIGHT
TZOFFSETFROM:+0100
TZOFFSETTO:+0200
TZNAME:CEST
DTSTART:20240331T010000
END:DAYLIGHT
BEGIN:STANDARD
TZOFFSETFROM:+0200
TZOFFSETTO:+0100
TZNAME:CET
DTSTART:20241027T010000
END:STANDARD
BEGIN:DAYLIGHT
TZOFFSETFROM:+0100
TZOFFSETTO:+0200
TZNAME:CEST
DTSTART:20250330T010000
END:DAYLIGHT
BEGIN:STANDARD
TZOFFSETFROM:+0200
TZOFFSETTO:+0100
TZNAME:CET
DTSTART:20251026T010000
END:STANDARD
BEGIN:DAYLIGHT
TZOFFSETFROM:+0100
TZOFFSETTO:+0200
TZNAME:CEST
DTSTART:20260329T010000
END:DAYLIGHT
BEGIN:STANDARD
TZOFFSETFROM:+0200
TZOFFSETTO:+0100
TZNAME:CET
DTSTART:20261025T010000
END:STANDARD
END:VTIMEZONE
BEGIN:VEVENT
DTSTART;TZID=Europe/Madrid:20251011T000000
DTEND;TZID=Europe/Madrid:20251011T235959
DTSTAMP:20260425T150310
CREATED:20250908T215000Z
LAST-MODIFIED:20250904T083346Z
UID:6373-1760140800-1760227199@kuivialmacenes.es
SUMMARY:SEX MUSEUM + AUTOMATIC KAFKA
DESCRIPTION:sábado 11 de octubre / 21:30 \n\n\n\nENTRADAS\n\n\n\n¡Prepárate para una noche histórica el 11 de octubre en la sala Kuivi! Sex Museum celebra sus 40 años de rock con riffs imparables y energía pura. Y como invitados\, Automatic Kafka\, grupo local\, que arranca su gira de 15 aniversario con el álbum IMMORTAL. Dos de las bandas más potentes del rock nacional se unen para una noche épica e irrepetible. ¡No te lo pierdas\, las entradas volarán! ¡Nos vemos el 11 de octubre!
URL:https://kuivialmacenes.es/event/sex-museum-automatic-kafka/
CATEGORIES:Recomendado,Sala
ATTACH;FMTTYPE=image/jpeg:https://kuivialmacenes.es/wp-content/uploads/2025/09/IMG_7413.jpg
END:VEVENT
END:VCALENDAR