BEGIN:VCALENDAR
VERSION:2.0
PRODID:-//KUIVI ALMACENES - ECPv6.15.15//NONSGML v1.0//EN
CALSCALE:GREGORIAN
METHOD:PUBLISH
X-WR-CALNAME:KUIVI ALMACENES
X-ORIGINAL-URL:https://kuivialmacenes.es
X-WR-CALDESC:Eventos para KUIVI ALMACENES
REFRESH-INTERVAL;VALUE=DURATION:PT1H
X-Robots-Tag:noindex
X-PUBLISHED-TTL:PT1H
BEGIN:VTIMEZONE
TZID:Europe/Madrid
BEGIN:DAYLIGHT
TZOFFSETFROM:+0100
TZOFFSETTO:+0200
TZNAME:CEST
DTSTART:20240331T010000
END:DAYLIGHT
BEGIN:STANDARD
TZOFFSETFROM:+0200
TZOFFSETTO:+0100
TZNAME:CET
DTSTART:20241027T010000
END:STANDARD
BEGIN:DAYLIGHT
TZOFFSETFROM:+0100
TZOFFSETTO:+0200
TZNAME:CEST
DTSTART:20250330T010000
END:DAYLIGHT
BEGIN:STANDARD
TZOFFSETFROM:+0200
TZOFFSETTO:+0100
TZNAME:CET
DTSTART:20251026T010000
END:STANDARD
BEGIN:DAYLIGHT
TZOFFSETFROM:+0100
TZOFFSETTO:+0200
TZNAME:CEST
DTSTART:20260329T010000
END:DAYLIGHT
BEGIN:STANDARD
TZOFFSETFROM:+0200
TZOFFSETTO:+0100
TZNAME:CET
DTSTART:20261025T010000
END:STANDARD
END:VTIMEZONE
BEGIN:VEVENT
DTSTART;TZID=Europe/Madrid:20251025T080000
DTEND;TZID=Europe/Madrid:20251025T170000
DTSTAMP:20260424T173355
CREATED:20250521T082026Z
LAST-MODIFIED:20250523T124842Z
UID:5715-1761379200-1761411600@kuivialmacenes.es
SUMMARY:ISABEL AAIÚN
DESCRIPTION:sábado 25 de octubre / 21:00 \n\n\n\no: Madrid.. \n\n\n\nOviedo se une a la gira de la Potra Salvaje\, que llega a la Kuivi Almacenes con su nuevo tema El Himno de mi Peña como bandera. Una noche para cantar\, vibrar y dejarse llevar por la fuerza natural de Isabel Aaiún en estado puro. \n\n\n\nENTRADAS
URL:https://kuivialmacenes.es/event/isabel-aaiun-gira-potra-salvaje/
CATEGORIES:Recomendado,Sala
ATTACH;FMTTYPE=image/png:https://kuivialmacenes.es/wp-content/uploads/2025/05/snapedit_1747816772732.png
END:VEVENT
END:VCALENDAR