BEGIN:VCALENDAR
VERSION:2.0
PRODID:-//KUIVI ALMACENES - ECPv6.15.15//NONSGML v1.0//EN
CALSCALE:GREGORIAN
METHOD:PUBLISH
X-ORIGINAL-URL:https://kuivialmacenes.es
X-WR-CALDESC:Eventos para KUIVI ALMACENES
REFRESH-INTERVAL;VALUE=DURATION:PT1H
X-Robots-Tag:noindex
X-PUBLISHED-TTL:PT1H
BEGIN:VTIMEZONE
TZID:Europe/Madrid
BEGIN:DAYLIGHT
TZOFFSETFROM:+0100
TZOFFSETTO:+0200
TZNAME:CEST
DTSTART:20250330T010000
END:DAYLIGHT
BEGIN:STANDARD
TZOFFSETFROM:+0200
TZOFFSETTO:+0100
TZNAME:CET
DTSTART:20251026T010000
END:STANDARD
BEGIN:DAYLIGHT
TZOFFSETFROM:+0100
TZOFFSETTO:+0200
TZNAME:CEST
DTSTART:20260329T010000
END:DAYLIGHT
BEGIN:STANDARD
TZOFFSETFROM:+0200
TZOFFSETTO:+0100
TZNAME:CET
DTSTART:20261025T010000
END:STANDARD
BEGIN:DAYLIGHT
TZOFFSETFROM:+0100
TZOFFSETTO:+0200
TZNAME:CEST
DTSTART:20270328T010000
END:DAYLIGHT
BEGIN:STANDARD
TZOFFSETFROM:+0200
TZOFFSETTO:+0100
TZNAME:CET
DTSTART:20271031T010000
END:STANDARD
END:VTIMEZONE
BEGIN:VEVENT
DTSTART;TZID=Europe/Madrid:20260206T000000
DTEND;TZID=Europe/Madrid:20260206T235959
DTSTAMP:20260422T022412
CREATED:20260204T113227Z
LAST-MODIFIED:20260209T095323Z
UID:6863-1770336000-1770422399@kuivialmacenes.es
SUMMARY:GEMTONICS
DESCRIPTION:viernes 6 de febrero / 21:00 \n\n\n\ne:Acceso libre.. \n\n\n\no:Asturias.. \n\n\n\nGemtonics es una banda amante de los sonidos negros y el Groove. Ritmos que han ido evolucionando del Soul de los 60’s y 70’s al actual Neo Soul y Neo Funk. Os proponemos un viaje por estos sonidos. Desde canciones ya clásicas de Otis Redding o Aretha Franklin\, hasta artistas más actuales comoRebecca Ferguson o Ben Harper.  \n\n\n\nFunk\, soul y una gotas de rhythm & blues. Esta es nuestra propuesta para escuchar y para bailar. Al frente de dicha propuesta se encuentran el guitarrista Luis A. Rico\, alma máter del portal de guitarra “Rock & Roll para Muñones”; Paco Calero\, bajista\, con una amplia experiencia como instrumentista en bandas como Miguel Oñate o Brenga Astur; Fer Iglesias a la batería\, procedente del clásico y de bandas con sello propio como Quilombo Bacano; y como no\, nuestra frontwoman Gin\, curtida en sonidos más duros como el de Absalem. Ella\, que no duda en cambiar de registro\, da forma con su potente voz a esta nueva aventura.
URL:https://kuivialmacenes.es/event/gemtonics/
CATEGORIES:Gratuito,Recomendado,Sala
ATTACH;FMTTYPE=image/jpeg:https://kuivialmacenes.es/wp-content/uploads/2026/02/1000039217-scaled.jpg
END:VEVENT
END:VCALENDAR