BEGIN:VCALENDAR
VERSION:2.0
PRODID:-//KUIVI ALMACENES - ECPv6.15.15//NONSGML v1.0//EN
CALSCALE:GREGORIAN
METHOD:PUBLISH
X-ORIGINAL-URL:https://kuivialmacenes.es
X-WR-CALDESC:Eventos para KUIVI ALMACENES
REFRESH-INTERVAL;VALUE=DURATION:PT1H
X-Robots-Tag:noindex
X-PUBLISHED-TTL:PT1H
BEGIN:VTIMEZONE
TZID:Europe/Madrid
BEGIN:DAYLIGHT
TZOFFSETFROM:+0100
TZOFFSETTO:+0200
TZNAME:CEST
DTSTART:20250330T010000
END:DAYLIGHT
BEGIN:STANDARD
TZOFFSETFROM:+0200
TZOFFSETTO:+0100
TZNAME:CET
DTSTART:20251026T010000
END:STANDARD
BEGIN:DAYLIGHT
TZOFFSETFROM:+0100
TZOFFSETTO:+0200
TZNAME:CEST
DTSTART:20260329T010000
END:DAYLIGHT
BEGIN:STANDARD
TZOFFSETFROM:+0200
TZOFFSETTO:+0100
TZNAME:CET
DTSTART:20261025T010000
END:STANDARD
BEGIN:DAYLIGHT
TZOFFSETFROM:+0100
TZOFFSETTO:+0200
TZNAME:CEST
DTSTART:20270328T010000
END:DAYLIGHT
BEGIN:STANDARD
TZOFFSETFROM:+0200
TZOFFSETTO:+0100
TZNAME:CET
DTSTART:20271031T010000
END:STANDARD
END:VTIMEZONE
BEGIN:VEVENT
DTSTART;TZID=Europe/Madrid:20260221T213000
DTEND;TZID=Europe/Madrid:20260221T235959
DTSTAMP:20260422T022508
CREATED:20251014T060000Z
LAST-MODIFIED:20260216T152147Z
UID:6489-1771709400-1771718399@kuivialmacenes.es
SUMMARY:DERBY MOTORETA'S BURRITO KACHIMBA
DESCRIPTION:sábado 21 de febrero / 21:30 \n\n\n\n\n\no: Sevilla.. \n\n\n\nEn contadas\, muy contadas ocasiones\, irrumpe con tanta fuerza en escena una banda como lo hizo Derby Motoreta’s Burrito Kachimba. \n\n\n\nCon la edición de su tercer álbum\, “Bolsa Amarilla y Piedra Potente”\, se han logrado posicionar como nº1 en venta de vinilos en nuestro país durante las dos primeras semanas de venta. El álbum refleja el crecimiento y la evolución de los sevillanos en pos de un sonido más detallista y más abierto en influencias\, aunque las señas de identidad se mantienen\, especialmente en certeros disparos de rock como “La Fuente” o “El Chinche”.La gira que está sirviendo para presentar este tercer álbum comenzó con sold outs en Sevilla\, Madrid y Barcelona\, para después recorrer los mejores festivales de la península y también Reino Unido\, Irlanda\, Portugal\, México o Colombia comenzando a sentar las bases de su culto al otro lado del charco. \n\n\n\nENTRADAS
URL:https://kuivialmacenes.es/event/derby-motoretas-burrito-kachimba/
CATEGORIES:Recomendado,Sala,Sold out
ATTACH;FMTTYPE=image/jpeg:https://kuivialmacenes.es/wp-content/uploads/2025/10/PHOTO_01_009-scaled.jpg
END:VEVENT
END:VCALENDAR