BEGIN:VCALENDAR
VERSION:2.0
PRODID:-//KUIVI ALMACENES - ECPv6.15.15//NONSGML v1.0//EN
CALSCALE:GREGORIAN
METHOD:PUBLISH
X-WR-CALNAME:KUIVI ALMACENES
X-ORIGINAL-URL:https://kuivialmacenes.es
X-WR-CALDESC:Eventos para KUIVI ALMACENES
REFRESH-INTERVAL;VALUE=DURATION:PT1H
X-Robots-Tag:noindex
X-PUBLISHED-TTL:PT1H
BEGIN:VTIMEZONE
TZID:Europe/Madrid
BEGIN:DAYLIGHT
TZOFFSETFROM:+0100
TZOFFSETTO:+0200
TZNAME:CEST
DTSTART:20250330T010000
END:DAYLIGHT
BEGIN:STANDARD
TZOFFSETFROM:+0200
TZOFFSETTO:+0100
TZNAME:CET
DTSTART:20251026T010000
END:STANDARD
BEGIN:DAYLIGHT
TZOFFSETFROM:+0100
TZOFFSETTO:+0200
TZNAME:CEST
DTSTART:20260329T010000
END:DAYLIGHT
BEGIN:STANDARD
TZOFFSETFROM:+0200
TZOFFSETTO:+0100
TZNAME:CET
DTSTART:20261025T010000
END:STANDARD
BEGIN:DAYLIGHT
TZOFFSETFROM:+0100
TZOFFSETTO:+0200
TZNAME:CEST
DTSTART:20270328T010000
END:DAYLIGHT
BEGIN:STANDARD
TZOFFSETFROM:+0200
TZOFFSETTO:+0100
TZNAME:CET
DTSTART:20271031T010000
END:STANDARD
END:VTIMEZONE
BEGIN:VEVENT
DTSTART;TZID=Europe/Madrid:20260321T000000
DTEND;TZID=Europe/Madrid:20260321T235959
DTSTAMP:20260422T002211
CREATED:20260123T171022Z
LAST-MODIFIED:20260204T140930Z
UID:6762-1774051200-1774137599@kuivialmacenes.es
SUMMARY:TEKSUO + AS LIFE BURNS + MAVERICK
DESCRIPTION:sábado 21 de marzo / 21:30 \n\n\n\no: Asturias.. \n\n\n\nENTRADAS\n\n\n\nLos asturianos Teksuo (Metalcore) presentarán su nuevo disco «The Glow Before I Go»\, último trabajo de la banda que consta de 12 canciones y que no dejara indiferente a cualquier fan del metal moderno con sus versos frenéticos\, pegadizos estribillos melódicos\, potentes breakdowns y una base electrónica predominante. Esta cita en el KUIVI será la primera fecha de una gira que les llevará por las principales ciudades de la península. \n\n\n\nLes acompañaran en esta fecha las bandas As Life Burns (Deathcore) y Maverick (Punk Rock).
URL:https://kuivialmacenes.es/event/teksuo/
CATEGORIES:Entrada,Recomendado,Sala
ATTACH;FMTTYPE=image/jpeg:https://kuivialmacenes.es/wp-content/uploads/2026/01/PROMO_FULL-ENTRADAS-scaled.jpg
END:VEVENT
END:VCALENDAR