BEGIN:VCALENDAR
VERSION:2.0
PRODID:-//KUIVI ALMACENES - ECPv6.15.15//NONSGML v1.0//EN
CALSCALE:GREGORIAN
METHOD:PUBLISH
X-ORIGINAL-URL:https://kuivialmacenes.es
X-WR-CALDESC:Eventos para KUIVI ALMACENES
REFRESH-INTERVAL;VALUE=DURATION:PT1H
X-Robots-Tag:noindex
X-PUBLISHED-TTL:PT1H
BEGIN:VTIMEZONE
TZID:Europe/Madrid
BEGIN:DAYLIGHT
TZOFFSETFROM:+0100
TZOFFSETTO:+0200
TZNAME:CEST
DTSTART:20240331T010000
END:DAYLIGHT
BEGIN:STANDARD
TZOFFSETFROM:+0200
TZOFFSETTO:+0100
TZNAME:CET
DTSTART:20241027T010000
END:STANDARD
BEGIN:DAYLIGHT
TZOFFSETFROM:+0100
TZOFFSETTO:+0200
TZNAME:CEST
DTSTART:20250330T010000
END:DAYLIGHT
BEGIN:STANDARD
TZOFFSETFROM:+0200
TZOFFSETTO:+0100
TZNAME:CET
DTSTART:20251026T010000
END:STANDARD
BEGIN:DAYLIGHT
TZOFFSETFROM:+0100
TZOFFSETTO:+0200
TZNAME:CEST
DTSTART:20260329T010000
END:DAYLIGHT
BEGIN:STANDARD
TZOFFSETFROM:+0200
TZOFFSETTO:+0100
TZNAME:CET
DTSTART:20261025T010000
END:STANDARD
END:VTIMEZONE
BEGIN:VEVENT
DTSTART;TZID=Europe/Madrid:20251109T000000
DTEND;TZID=Europe/Madrid:20251109T235959
DTSTAMP:20260424T140843
CREATED:20250701T095339Z
LAST-MODIFIED:20251024T114307Z
UID:6127-1762646400-1762732799@kuivialmacenes.es
SUMMARY:LOS SUSTOS
DESCRIPTION:domingo 9 de noviembre / 14:00 \n\n\n\no:México.. \n\n\n\ne:Acceso libre.. \n\n\n\nNacido en el oriente de la Ciudad de México\, no sólo toma la herencia sonora de bandas como The Sonics\, The Cramps o The Fuzztones. Las influencias\, son solo un espacio que Los Sustos abordan sin la necesidad ni la búsqueda de pertenecer.Como oyentes podrán experimentar sonidos de guitarras bañadas en fuzz\, ritmos cadenciosos y una serie de ingredientes que son tan propios como ajenos. 
URL:https://kuivialmacenes.es/event/los-sustos/
CATEGORIES:Plaza
ATTACH;FMTTYPE=image/jpeg:https://kuivialmacenes.es/wp-content/uploads/2025/07/los_sustos-e1751363661199.jpg
END:VEVENT
BEGIN:VEVENT
DTSTART;TZID=Europe/Madrid:20251120T000000
DTEND;TZID=Europe/Madrid:20251120T235959
DTSTAMP:20260424T140843
CREATED:20250609T093959Z
LAST-MODIFIED:20250925T120318Z
UID:5948-1763596800-1763683199@kuivialmacenes.es
SUMMARY:KOOKABURRA
DESCRIPTION:jueves 20 de noviembre / 21:00 \n\n\n\no:Bélgica.. \n\n\n\ne:Acceso libre.. \n\n\n\nDescubre el electrizante mundo de Kookaburra\, el cuarteto belga que enciende los escenarios con su maestría garage/post-punk desde su base en Amberes. Prepárate para un viaje salvaje a través de su enérgico rock de guitarra\, transformando cada concierto en una experiencia inolvidable. Como el icónico pájaro australiano\, la música de Kookaburra vibra y vibra en todos los frentes\, pero nunca pierden de vista la esencia\, creando himnos de garage rock irresistiblemente pegadizos.
URL:https://kuivialmacenes.es/event/kookaburra/
CATEGORIES:Plaza
ATTACH;FMTTYPE=image/png:https://kuivialmacenes.es/wp-content/uploads/2025/06/kookaburra_music.png
END:VEVENT
END:VCALENDAR