BEGIN:VCALENDAR
VERSION:2.0
PRODID:-//KUIVI ALMACENES - ECPv6.15.15//NONSGML v1.0//EN
CALSCALE:GREGORIAN
METHOD:PUBLISH
X-ORIGINAL-URL:https://kuivialmacenes.es
X-WR-CALDESC:Eventos para KUIVI ALMACENES
REFRESH-INTERVAL;VALUE=DURATION:PT1H
X-Robots-Tag:noindex
X-PUBLISHED-TTL:PT1H
BEGIN:VTIMEZONE
TZID:Europe/Madrid
BEGIN:DAYLIGHT
TZOFFSETFROM:+0100
TZOFFSETTO:+0200
TZNAME:CEST
DTSTART:20240331T010000
END:DAYLIGHT
BEGIN:STANDARD
TZOFFSETFROM:+0200
TZOFFSETTO:+0100
TZNAME:CET
DTSTART:20241027T010000
END:STANDARD
BEGIN:DAYLIGHT
TZOFFSETFROM:+0100
TZOFFSETTO:+0200
TZNAME:CEST
DTSTART:20250330T010000
END:DAYLIGHT
BEGIN:STANDARD
TZOFFSETFROM:+0200
TZOFFSETTO:+0100
TZNAME:CET
DTSTART:20251026T010000
END:STANDARD
BEGIN:DAYLIGHT
TZOFFSETFROM:+0100
TZOFFSETTO:+0200
TZNAME:CEST
DTSTART:20260329T010000
END:DAYLIGHT
BEGIN:STANDARD
TZOFFSETFROM:+0200
TZOFFSETTO:+0100
TZNAME:CET
DTSTART:20261025T010000
END:STANDARD
END:VTIMEZONE
BEGIN:VEVENT
DTSTART;TZID=Europe/Madrid:20250705T000000
DTEND;TZID=Europe/Madrid:20250705T235959
DTSTAMP:20260424T201753
CREATED:20250617T104740Z
LAST-MODIFIED:20250626T093625Z
UID:6028-1751673600-1751759999@kuivialmacenes.es
SUMMARY:LÏBRE
DESCRIPTION:sábado 5 de julio / 21:30 \n\n\n\no:Asturias.. \n\n\n\ne:Acceso libre.. \n\n\n\nLÏBRE es una banda asturiana formada por músicos procedentes de reconocidas formaciones de la escena rock estatal como Mala Reputación\, Misiva\, Origen y Desakato. El grupo presenta su nuevo trabajo «Ciudadano Lunar»\, un EP ya disponible en todas las plataformas digitales desde el pasado 15 de febrero. \n\n\n\nGrabado y producido por Pablo Senator en Ovni Estudio (Asturias) en enero de 2025\, «Ciudadano Lunar» (EP\, 2025) incluye seis canciones que transitan diversos paisajes sonoros: desde la canción de autor hasta el pop alternativo\, siempre asentadas sobre la base sólida de una banda de rock. \n\n\n\nAntes y después del concierto la fiesta sigue con Dj Carlinos el del Colón.
URL:https://kuivialmacenes.es/event/libre/
CATEGORIES:Plaza
ATTACH;FMTTYPE=image/jpeg:https://kuivialmacenes.es/wp-content/uploads/2025/06/LIBRE-promo-scaled.jpg
END:VEVENT
BEGIN:VEVENT
DTSTART;TZID=Europe/Madrid:20250707T000000
DTEND;TZID=Europe/Madrid:20250707T235959
DTSTAMP:20260424T201753
CREATED:20250304T115950Z
LAST-MODIFIED:20250703T085605Z
UID:4845-1751846400-1751932799@kuivialmacenes.es
SUMMARY:OIHAN
DESCRIPTION:lunes 7 de julio / 21:30 \n\n\n\no:Valladolid.. \n\n\n\ne:Acceso libre.. \n\n\n\nOihan es el proyecto personal de Guille Aragón\, batería en Arizona Baby\, y compositor en Tuxedo. Tras ‘Canciones para Imanol’ y ‘Un Paseo por el Bosque’\, en 2024 lanza ‘Domar la Luz’\, su tercer trabajo largo. Con él ha cosechado elogios de medios especializados como Mondo Sonoro y Radio 3\, ha participado en eventos como el festival de cine Seminci o el Foro de la Cultura\, y ha compartido escenario con artistas como New Raemon o Ángel Stanich. \n\n\n\nAntes y después del concierto la fiesta sigue con Dj Centollier. \n\n\n\n\nhttps://www.youtube.com/watch?v=VOjqNkpqw_w
URL:https://kuivialmacenes.es/event/ohian/
CATEGORIES:Plaza
ATTACH;FMTTYPE=image/jpeg:https://kuivialmacenes.es/wp-content/uploads/2025/03/ohian-scaled-e1741089366820.jpg
END:VEVENT
END:VCALENDAR