BEGIN:VCALENDAR
VERSION:2.0
PRODID:-//KUIVI ALMACENES - ECPv6.15.15//NONSGML v1.0//EN
CALSCALE:GREGORIAN
METHOD:PUBLISH
X-ORIGINAL-URL:https://kuivialmacenes.es
X-WR-CALDESC:Eventos para KUIVI ALMACENES
REFRESH-INTERVAL;VALUE=DURATION:PT1H
X-Robots-Tag:noindex
X-PUBLISHED-TTL:PT1H
BEGIN:VTIMEZONE
TZID:Europe/Madrid
BEGIN:DAYLIGHT
TZOFFSETFROM:+0100
TZOFFSETTO:+0200
TZNAME:CEST
DTSTART:20240331T010000
END:DAYLIGHT
BEGIN:STANDARD
TZOFFSETFROM:+0200
TZOFFSETTO:+0100
TZNAME:CET
DTSTART:20241027T010000
END:STANDARD
BEGIN:DAYLIGHT
TZOFFSETFROM:+0100
TZOFFSETTO:+0200
TZNAME:CEST
DTSTART:20250330T010000
END:DAYLIGHT
BEGIN:STANDARD
TZOFFSETFROM:+0200
TZOFFSETTO:+0100
TZNAME:CET
DTSTART:20251026T010000
END:STANDARD
BEGIN:DAYLIGHT
TZOFFSETFROM:+0100
TZOFFSETTO:+0200
TZNAME:CEST
DTSTART:20260329T010000
END:DAYLIGHT
BEGIN:STANDARD
TZOFFSETFROM:+0200
TZOFFSETTO:+0100
TZNAME:CET
DTSTART:20261025T010000
END:STANDARD
END:VTIMEZONE
BEGIN:VEVENT
DTSTART;TZID=Europe/Madrid:20250902T000000
DTEND;TZID=Europe/Madrid:20250902T235959
DTSTAMP:20260424T172111
CREATED:20250331T101957Z
LAST-MODIFIED:20250901T084431Z
UID:5356-1756771200-1756857599@kuivialmacenes.es
SUMMARY:ELI LIB
DESCRIPTION:martes 2 de septiembre / 21:30 \n\n\n\no: Argentina.. \n\n\n\ne:Acceso libre.. \n\n\n\nEli Lib es una cantante y compositora Argentina. Artista pop\, indie con un componente de folclore. Su repertorio tiene canciones originales y versiones de canciones conocidas. En sus shows acústicos recorre sus canciones con guitarra y voz y crea arreglos vocales en vivo en loop generando una atmósfera íntima y experimental.Recientemente sacó dos singles “La luna se cae” y “Todos los ojos en el fuego” y está de gira por Europa.
URL:https://kuivialmacenes.es/event/eli-lib/
CATEGORIES:Plaza
ATTACH;FMTTYPE=image/jpeg:https://kuivialmacenes.es/wp-content/uploads/2025/03/eli_foto-scaled.jpeg
END:VEVENT
BEGIN:VEVENT
DTSTART;TZID=Europe/Madrid:20250928T130000
DTEND;TZID=Europe/Madrid:20250928T170000
DTSTAMP:20260424T172111
CREATED:20250904T094808Z
LAST-MODIFIED:20250904T094809Z
UID:6385-1759064400-1759078800@kuivialmacenes.es
SUMMARY:ORQUESTA AMPARO
DESCRIPTION:domingo 28 de septiembre / 13:00 \n\n\n\no:Asturias.. \n\n\n\ne:Acceso libre.. \n\n\n\nOrquesta Amparo\, la orquesta que España necesita. Fusionan indie con salsa/cumbia\, versiones y temas propios.
URL:https://kuivialmacenes.es/event/orquesta-amparo/
CATEGORIES:Plaza
ATTACH;FMTTYPE=image/jpeg:https://kuivialmacenes.es/wp-content/uploads/2025/09/68b8279621758-e1756979278160.jpg
END:VEVENT
END:VCALENDAR