BEGIN:VCALENDAR
VERSION:2.0
PRODID:-//KUIVI ALMACENES - ECPv6.15.15//NONSGML v1.0//EN
CALSCALE:GREGORIAN
METHOD:PUBLISH
X-ORIGINAL-URL:https://kuivialmacenes.es
X-WR-CALDESC:Eventos para KUIVI ALMACENES
REFRESH-INTERVAL;VALUE=DURATION:PT1H
X-Robots-Tag:noindex
X-PUBLISHED-TTL:PT1H
BEGIN:VTIMEZONE
TZID:Europe/Madrid
BEGIN:DAYLIGHT
TZOFFSETFROM:+0100
TZOFFSETTO:+0200
TZNAME:CEST
DTSTART:20240331T010000
END:DAYLIGHT
BEGIN:STANDARD
TZOFFSETFROM:+0200
TZOFFSETTO:+0100
TZNAME:CET
DTSTART:20241027T010000
END:STANDARD
BEGIN:DAYLIGHT
TZOFFSETFROM:+0100
TZOFFSETTO:+0200
TZNAME:CEST
DTSTART:20250330T010000
END:DAYLIGHT
BEGIN:STANDARD
TZOFFSETFROM:+0200
TZOFFSETTO:+0100
TZNAME:CET
DTSTART:20251026T010000
END:STANDARD
BEGIN:DAYLIGHT
TZOFFSETFROM:+0100
TZOFFSETTO:+0200
TZNAME:CEST
DTSTART:20260329T010000
END:DAYLIGHT
BEGIN:STANDARD
TZOFFSETFROM:+0200
TZOFFSETTO:+0100
TZNAME:CET
DTSTART:20261025T010000
END:STANDARD
END:VTIMEZONE
BEGIN:VEVENT
DTSTART;TZID=Europe/Madrid:20251107T200000
DTEND;TZID=Europe/Madrid:20251107T203000
DTSTAMP:20260424T140859
CREATED:20251024T091825Z
LAST-MODIFIED:20251103T104354Z
UID:6583-1762545600-1762547400@kuivialmacenes.es
SUMMARY:CONCURSO MAQUETAS POP ROCK
DESCRIPTION:viernes 7 de noviembre / 20:00 \n\n\n\ne:Acceso libre.. \n\n\n\nActuación de los finalistas Zero Castigo\, Elena del Frade\, Casino S.A y Schrz. El jurado elegirá al ganador tras evaluar la actuación en directo. Se presentará el disco editado por la ganadora de la edición anterior\, Lorena Lawns.
URL:https://kuivialmacenes.es/event/concurso-maquetas-pop-rock/
CATEGORIES:Plaza
ATTACH;FMTTYPE=image/jpeg:https://kuivialmacenes.es/wp-content/uploads/2025/10/1080x1080_finalistas-2025.jpg
END:VEVENT
BEGIN:VEVENT
DTSTART;TZID=Europe/Madrid:20251115T000000
DTEND;TZID=Europe/Madrid:20251115T235959
DTSTAMP:20260424T140859
CREATED:20250813T060000Z
LAST-MODIFIED:20250814T104000Z
UID:6323-1763164800-1763251199@kuivialmacenes.es
SUMMARY:BIZNAGA + LA MALA DENTRO
DESCRIPTION:sábado 15 de noviembre / 21:30 \n\n\n\no: Madrid.. \n\n\n\nSiendo parte de una generación de músicos formados alrededor del punk\, Biznaga se han erigido como uno de los más firmes candidatos a traspasar las fronteras siempre difíciles entre este género y el gran público. De una manera muy personal han conseguido perfeccionar\, a base de melodía\, discurso y actitud\, una suerte de canción protesta contemporánea. \n\n\n\nLos cinco trabajos publicados hasta la fecha (Centro Dramático Nacional\,  Sentido del Espectáculo \, Gran Pantalla\, Bremen no existe y ¡Ahora!) son buena prueba de cómo desarrollar una trayectoria a base de grandes canciones\, sin concesiones en lo retórico\, ni renuncias en lo melódico. \n\n\n\nENTRADAS
URL:https://kuivialmacenes.es/event/biznaga/
CATEGORIES:Sala
ATTACH;FMTTYPE=image/jpeg:https://kuivialmacenes.es/wp-content/uploads/2025/08/BZG-promo-1.jpg
END:VEVENT
BEGIN:VEVENT
DTSTART;TZID=Europe/Madrid:20251130T000000
DTEND;TZID=Europe/Madrid:20251130T235959
DTSTAMP:20260424T140859
CREATED:20251020T110715Z
LAST-MODIFIED:20251021T091735Z
UID:6517-1764460800-1764547199@kuivialmacenes.es
SUMMARY:STAYTONS
DESCRIPTION:domingo 30 de noviembre / 20:00 \n\n\n\ne:Acceso libre.. \n\n\n\no:Asturias.. \n\n\n\nLa joven banda asturiana que saltó al panorama nacional con tan solo dieciocho años interrumpe su silencio para presentar un nuevo EP que sirve a la vez de recordatorio y anticipo de lo que se puede esperar de estos maliayos. Habiéndose propuesto devolver la artesanía a la canción pop\, se dirigen a una nueva generación de melómanos con un sonido cultivado en la música negra y el indie británico\, desenvolviéndose con elegancia entre los contrastes que ofrece la música\, el color y el idioma.
URL:https://kuivialmacenes.es/event/staytons/
CATEGORIES:Plaza
ATTACH;FMTTYPE=image/jpeg:https://kuivialmacenes.es/wp-content/uploads/2025/10/staytonss.jpg
END:VEVENT
END:VCALENDAR