BEGIN:VCALENDAR
VERSION:2.0
PRODID:-//KUIVI ALMACENES - ECPv6.15.15//NONSGML v1.0//EN
CALSCALE:GREGORIAN
METHOD:PUBLISH
X-WR-CALNAME:KUIVI ALMACENES
X-ORIGINAL-URL:https://kuivialmacenes.es
X-WR-CALDESC:Eventos para KUIVI ALMACENES
REFRESH-INTERVAL;VALUE=DURATION:PT1H
X-Robots-Tag:noindex
X-PUBLISHED-TTL:PT1H
BEGIN:VTIMEZONE
TZID:Europe/Madrid
BEGIN:DAYLIGHT
TZOFFSETFROM:+0100
TZOFFSETTO:+0200
TZNAME:CEST
DTSTART:20250330T010000
END:DAYLIGHT
BEGIN:STANDARD
TZOFFSETFROM:+0200
TZOFFSETTO:+0100
TZNAME:CET
DTSTART:20251026T010000
END:STANDARD
BEGIN:DAYLIGHT
TZOFFSETFROM:+0100
TZOFFSETTO:+0200
TZNAME:CEST
DTSTART:20260329T010000
END:DAYLIGHT
BEGIN:STANDARD
TZOFFSETFROM:+0200
TZOFFSETTO:+0100
TZNAME:CET
DTSTART:20261025T010000
END:STANDARD
BEGIN:DAYLIGHT
TZOFFSETFROM:+0100
TZOFFSETTO:+0200
TZNAME:CEST
DTSTART:20270328T010000
END:DAYLIGHT
BEGIN:STANDARD
TZOFFSETFROM:+0200
TZOFFSETTO:+0100
TZNAME:CET
DTSTART:20271031T010000
END:STANDARD
END:VTIMEZONE
BEGIN:VEVENT
DTSTART;TZID=Europe/Madrid:20260226T000000
DTEND;TZID=Europe/Madrid:20260226T235959
DTSTAMP:20260420T210147
CREATED:20260127T114913Z
LAST-MODIFIED:20260127T114922Z
UID:6790-1772064000-1772150399@kuivialmacenes.es
SUMMARY:CLARAMENTE
DESCRIPTION:jueves 26 de febrero / 21:00 \n\n\n\ne:Acceso libre.. \n\n\n\no:Albacete.. \n\n\n\nClaramente es una cantautora\, multi-instrumentista y productora independiente de Albacete. Su música\, con raíz indie y toques de pop y folk alternativo\, se caracteriza por letras íntimas que conectan con quien la escucha. La joven artista de 22 años explora diferentes matices en su sonido\, conservando la esencia dulce y cercana con la que se expresa. Estará por primera vez en Oviedo deleitándonos con un íntimo concierto en acústico cargado de emociones.
URL:https://kuivialmacenes.es/event/claramente/
CATEGORIES:Gratuito,Sala
ATTACH;FMTTYPE=image/jpeg:https://kuivialmacenes.es/wp-content/uploads/2026/01/claramente-scaled.jpeg
END:VEVENT
END:VCALENDAR