BEGIN:VCALENDAR
VERSION:2.0
PRODID:-//KUIVI ALMACENES - ECPv6.15.15//NONSGML v1.0//EN
CALSCALE:GREGORIAN
METHOD:PUBLISH
X-ORIGINAL-URL:https://kuivialmacenes.es
X-WR-CALDESC:Eventos para KUIVI ALMACENES
REFRESH-INTERVAL;VALUE=DURATION:PT1H
X-Robots-Tag:noindex
X-PUBLISHED-TTL:PT1H
BEGIN:VTIMEZONE
TZID:Europe/Madrid
BEGIN:DAYLIGHT
TZOFFSETFROM:+0100
TZOFFSETTO:+0200
TZNAME:CEST
DTSTART:20250330T010000
END:DAYLIGHT
BEGIN:STANDARD
TZOFFSETFROM:+0200
TZOFFSETTO:+0100
TZNAME:CET
DTSTART:20251026T010000
END:STANDARD
BEGIN:DAYLIGHT
TZOFFSETFROM:+0100
TZOFFSETTO:+0200
TZNAME:CEST
DTSTART:20260329T010000
END:DAYLIGHT
BEGIN:STANDARD
TZOFFSETFROM:+0200
TZOFFSETTO:+0100
TZNAME:CET
DTSTART:20261025T010000
END:STANDARD
BEGIN:DAYLIGHT
TZOFFSETFROM:+0100
TZOFFSETTO:+0200
TZNAME:CEST
DTSTART:20270328T010000
END:DAYLIGHT
BEGIN:STANDARD
TZOFFSETFROM:+0200
TZOFFSETTO:+0100
TZNAME:CET
DTSTART:20271031T010000
END:STANDARD
END:VTIMEZONE
BEGIN:VEVENT
DTSTART;TZID=Europe/Madrid:20260730T000000
DTEND;TZID=Europe/Madrid:20260730T235959
DTSTAMP:20260425T173645
CREATED:20251211T105352Z
LAST-MODIFIED:20260303T104257Z
UID:6706-1785369600-1785455999@kuivialmacenes.es
SUMMARY:FEDERALE
DESCRIPTION:jueves 30 de julio / 21:00 \n\n\n\no:EEUU.. \n\n\n\ne:Acceso libre.. \n\n\n\nFederale es un conjunto formado en Portland\, Oregón por seis integrantes. Encabezado por el bajista de Brian Jonestown Massacre\, Collin Hegna\, la banda fue concebida como una salida para canalizar la inspiración de las bandas sonoras europeas de los años 60 y 70\, en particular las de Italia que se hicieron famosas por los géneros Spaghetti Western. Además de los estilos de canciones narrativos de Lee Hazlewood y Nick Cave.
URL:https://kuivialmacenes.es/event/federale/
CATEGORIES:Gratuito,Recomendado,Sala
ATTACH;FMTTYPE=image/jpeg:https://kuivialmacenes.es/wp-content/uploads/2025/12/federale.jpg
END:VEVENT
BEGIN:VEVENT
DTSTART;TZID=Europe/Madrid:20260807T000000
DTEND;TZID=Europe/Madrid:20260807T235959
DTSTAMP:20260425T173645
CREATED:20260304T104515Z
LAST-MODIFIED:20260304T104546Z
UID:7079-1786060800-1786147199@kuivialmacenes.es
SUMMARY:BOPS
DESCRIPTION:viernes 7 de agosto / 21:00 \n\n\n\no:Francia.. \n\n\n\ne:Acceso libre.. \n\n\n\nBOPS es el proyecto de 3 hermanos\, Louis\, Oscar Germain y su amigo Tom. Gracias a dos primeros álbumes con toques garage-pop y una serie de shows europeos\, el grupo destacó y confirmó la exuberancia de su música en vivo. Habiendo dominado las influencias de sus primeras producciones\, el grupo adopta una visión ingeniosa y decididamente más personal de la música\, que les permite avanzar hacia otros horizontes\, más agudos (Fat White Family\, Talking Heads) y más atrevidos (Mgmt\, Foxygen).
URL:https://kuivialmacenes.es/event/bops-2/
CATEGORIES:Gratuito,Recomendado,Sala
ATTACH;FMTTYPE=image/png:https://kuivialmacenes.es/wp-content/uploads/2026/03/bops.png
END:VEVENT
BEGIN:VEVENT
DTSTART;TZID=Europe/Madrid:20260901T000000
DTEND;TZID=Europe/Madrid:20260901T235959
DTSTAMP:20260425T173645
CREATED:20250606T153858Z
LAST-MODIFIED:20260304T111518Z
UID:5930-1788220800-1788307199@kuivialmacenes.es
SUMMARY:BASIC PARTNER
DESCRIPTION:martes 1 de septiembre / 21:00 \n\n\n\no: Francia.. \n\n\n\ne: Acceso libre.. \n\n\n\nInspirados por las atmósferas oscuras y cinematográficas de David Lynch\, así como por los vibrantes colores pop de Shame\, Basic Partner siembra la confusión entre lo pesado y lo suave\, como una relación entre dos personas. Con sonidos que fusionan la melancolía del post-punk y la vivacidad del pop\, la banda crea un universo sonoro en torno a texturas electrónicas y riffs incisivos\, revelando las tensiones y complejidades de la vida moderna.
URL:https://kuivialmacenes.es/event/basic-partner/
CATEGORIES:Gratuito,Sala
ATTACH;FMTTYPE=image/jpeg:https://kuivialmacenes.es/wp-content/uploads/2025/06/007-scaled.jpg
END:VEVENT
BEGIN:VEVENT
DTSTART;TZID=Europe/Madrid:20261001T000000
DTEND;TZID=Europe/Madrid:20261001T235959
DTSTAMP:20260425T173645
CREATED:20260304T113416Z
LAST-MODIFIED:20260304T113417Z
UID:7103-1790812800-1790899199@kuivialmacenes.es
SUMMARY:SAM SNITCHY
DESCRIPTION:jueves 1 de octubre / 21:00 \n\n\n\ne:Acceso libre.. \n\n\n\no:Suiza.. \n\n\n\nMucho antes de llegar a un estudio\, Sam Snitchy ya gritaba poemas en las calles bajo el nombre de Maniporno: crudo\, intrépido\, conectado con el caos. Ese fuego aún arde en su tercer álbum\, un exorcismo sónico forjado con Marco Fuorigioco (bajo\, sintetizadores\, guitarras)\, Philipp Schlotter (sintetizadores) y Domi Chansorn (batería). Juntos te arrastran por una furia punk psicodélica que sangra hacia sombras dark wave\, muta en ruido industrial y bruma dub\, y se transforma en un pulso techno retorcido — hasta que ya no puedes distinguir dónde termina una cosa y empieza la otra. Y sobre esta tormenta\, Sam Snitchy escupe sus palabras como espejos rotos — historias retorcidas y autorreflexivas sobre humanos perdidos en sus propias contradicciones\, sobre rutinas vacías y estilos de vida sin sentido disfrazados de éxito\, sobre la absurda danza entre el éxtasis y la desesperación.
URL:https://kuivialmacenes.es/event/sam-snitchy/
CATEGORIES:Gratuito,Sala
ATTACH;FMTTYPE=image/png:https://kuivialmacenes.es/wp-content/uploads/2026/03/sam.png
END:VEVENT
BEGIN:VEVENT
DTSTART;TZID=Europe/Madrid:20261008T000000
DTEND;TZID=Europe/Madrid:20261008T235959
DTSTAMP:20260425T173645
CREATED:20260225T103148Z
LAST-MODIFIED:20260225T103149Z
UID:7040-1791417600-1791503999@kuivialmacenes.es
SUMMARY:MADDENING FLAMES
DESCRIPTION:jueves 8 de octubre / 21:00 \n\n\n\no:Andalucía.. \n\n\n\ne:Acceso libre.. \n\n\n\nMaddening Flames se formó en 1990 en El Puerto de Santa María. Tras dos maquetas ficharon por Radiation Records y publicaron Wanderlust (1994) y Six Ways to Sunday (1995)\, producido por Paco Loco. Se separaron en 1996 y regresaron en 2019 tras el estreno del documental “a friendly fire” sobre la propia banda. En 2024 editaron un nuevo álbum homónimo y retomaron la actividad.
URL:https://kuivialmacenes.es/event/maddening-flames/
CATEGORIES:Gratuito,Sala
ATTACH;FMTTYPE=image/jpeg:https://kuivialmacenes.es/wp-content/uploads/2026/02/maddenigflames.jpg
END:VEVENT
BEGIN:VEVENT
DTSTART;TZID=Europe/Madrid:20261010T000000
DTEND;TZID=Europe/Madrid:20261010T235959
DTSTAMP:20260425T173645
CREATED:20260324T103034Z
LAST-MODIFIED:20260325T173607Z
UID:7200-1791590400-1791676799@kuivialmacenes.es
SUMMARY:TEENAGE FANCLUB
DESCRIPTION:Entradas\n\n\n\nAl hablar de Teenage Fanclub estamos haciéndolo de unos iconos del power pop y el folk-rock interpretados según las coordenadas de lo que fue la era del rock alternativo surgido a finales de los años ochenta del pasado siglo. Desde el área de Glasgow y con Norman Blake\, Gerard Love y Raymond McGinley como cofundadores en 1989\, su brújula fue siguiendo desde el principio el norte que les marcaban las canciones de Big Star\, Badfinger y The Byrds. Himnos de sonido denso\, impulsados por guitarras y con una marca distintiva clasicista\, de madurez bien matizada\, con estribillos y armonías vocales cálidas que se te quedaban pegados. Con ese espíritu dieron salida a discos que marcaron aquella época\, como “Bandwagonesque” (1991)\, “Grand Prix” (1995) y “Songs From Northern Britain” (1997)\, caramelos para amantes de las guitarras que querían evitar las corrientes mayoritarias del grunge y el britpop. \n\n\n\nConvertidos en una formación de culto\, durante el presente siglo han seguido publicando álbumes que han cosechado una gran acogido entre la crítica especializada y sus acólitos\, como es el caso de «Man-Made» (2005)\, que grabaron en Chicago con John McEntire (Tortoise)\, «Shadows» (2010)\, «Endless Arcade» (2021) o su último LP hasta la fecha\, «Nothing Lasts Forever» (2023).
URL:https://kuivialmacenes.es/event/teenage-fanclub/
CATEGORIES:Entrada,Recomendado,Sala
ATTACH;FMTTYPE=image/jpeg:https://kuivialmacenes.es/wp-content/uploads/2026/03/TEENAGE-FANCLUB-PHOTO-FONDO.jpg
END:VEVENT
BEGIN:VEVENT
DTSTART;TZID=Europe/Madrid:20261015T000000
DTEND;TZID=Europe/Madrid:20261015T235959
DTSTAMP:20260425T173645
CREATED:20260304T110946Z
LAST-MODIFIED:20260304T111113Z
UID:7090-1792022400-1792108799@kuivialmacenes.es
SUMMARY:EL SAGUARO
DESCRIPTION:jueves 15 de octubre / 21:00 \n\n\n\no:Portugal.. \n\n\n\ne:Acceso libre.. \n\n\n\nEl Saguaro es un power trío de rock psicodélico originario de Lisboa\, Portugal. Su sonido evoca la esencia del rock de finales de los 60 y 70\, donde una mezcla de riffs salvajes\, melodías cautivadoras y letras introspectivas crean una experiencia sonora genuina y personal. Inspirados por íconos como Grand Funk Railroad\, Jimi Hendrix\, Black Sabbath\, Cream\, Led Zeppelin\, entre otros\, El Saguaro busca transportar a su público a la época dorada del rock.
URL:https://kuivialmacenes.es/event/el-saguaro/
CATEGORIES:Gratuito,Sala
ATTACH;FMTTYPE=image/png:https://kuivialmacenes.es/wp-content/uploads/2026/03/saguaro.png
END:VEVENT
BEGIN:VEVENT
DTSTART;TZID=Europe/Madrid:20261017T000000
DTEND;TZID=Europe/Madrid:20261017T235959
DTSTAMP:20260425T173645
CREATED:20260128T135718Z
LAST-MODIFIED:20260204T141321Z
UID:6813-1792195200-1792281599@kuivialmacenes.es
SUMMARY:l0rna 
DESCRIPTION:sábado 17 de octubre / 21:30 \n\n\n\no: Cartagena.. \n\n\n\nENTRADAS\n\n\n\nMotivada por los freestyle de FMS\, l0rna descubrió el rap con tan solo once años. A los quince grabó su primer tema\, marcando el inicio de una carrera que no tardó en desplazar las horas de instituto por jornadas en estudios de grabación. Hoy es una de las nuevas voces del urbano en español: con letras crudas\, sensibilidad a flor de piel y una estética muy cuidada\, convierte lo íntimo en algo generacional.  \n\n\n\nEn 2024 lanzó su gran éxito “Lip Combo” junto a Metrika y el EP producido por Kabasaki\, LA KAWA DE LA LORE. Este año ha presentado su álbum debut MISS UNDERSTOOD. Su actividad no se detuvo ahí: Ha colaborado con artistas como Israel B\, Selecta y La Zowi y lanzó singles de gran acogida como “Blancanieves” o “2.0 #1”.
URL:https://kuivialmacenes.es/event/l0rna/
CATEGORIES:Entrada,Sala
ATTACH;FMTTYPE=image/avif:https://kuivialmacenes.es/wp-content/uploads/2026/01/l0rna.avif
END:VEVENT
BEGIN:VEVENT
DTSTART;TZID=Europe/Madrid:20261029T000000
DTEND;TZID=Europe/Madrid:20261029T235959
DTSTAMP:20260425T173645
CREATED:20260313T103021Z
LAST-MODIFIED:20260313T103022Z
UID:7141-1793232000-1793318399@kuivialmacenes.es
SUMMARY:TICKLES
DESCRIPTION:jueves 29 de octubre / 21:00 \n\n\n\no:Francia.. \n\n\n\ne:Acceso libre.. \n\n\n\nTras dos EPs devastadores\, la banda francesa de noise punk TICKLES finalmente lanza su primer álbum. Manteniendo la intensidad cruda que los hizo famosos\, el cuarteto se sumerge aún más en el fango para ofrecer su declaración más oscura y furiosa hasta la fecha.
URL:https://kuivialmacenes.es/event/tickles/
CATEGORIES:Gratuito,Sala
ATTACH;FMTTYPE=image/png:https://kuivialmacenes.es/wp-content/uploads/2026/03/tickles.png
END:VEVENT
BEGIN:VEVENT
DTSTART;TZID=Europe/Madrid:20261112T000000
DTEND;TZID=Europe/Madrid:20261112T235959
DTSTAMP:20260425T173645
CREATED:20260304T110350Z
LAST-MODIFIED:20260304T110350Z
UID:7087-1794441600-1794527999@kuivialmacenes.es
SUMMARY:MANSIONS CELLAR
DESCRIPTION:jueves 12 de noviembre / 21:00 \n\n\n\ne:Acceso libre.. \n\n\n\no:Francia.. \n\n\n\nTras años perfeccionando sus habilidades en los clubes y salas de conciertos de Rennes\, Malo\, Louka\, Axel\, Lény y Thomas formaron\, de forma natural\, su banda de rock\, Mansion’s Cellar\, un grupo psicodélico que fusiona influencias australianas y californianas (Osees\, King Gizzard) con sonidos tradicionales. Rock\, sí\, pero con saxofón y saz para alimentar la euforia de la gran fiesta en la que nos sumergen sus melodías\, como una explosión de rock irresistiblemente bailable. 
URL:https://kuivialmacenes.es/event/mansions-cellar/
CATEGORIES:Gratuito,Recomendado,Sala
ATTACH;FMTTYPE=image/png:https://kuivialmacenes.es/wp-content/uploads/2026/03/MANSIONS-CELLAR.png
END:VEVENT
BEGIN:VEVENT
DTSTART;TZID=Europe/Madrid:20261203T000000
DTEND;TZID=Europe/Madrid:20261203T235959
DTSTAMP:20260425T173645
CREATED:20260304T105630Z
LAST-MODIFIED:20260304T105641Z
UID:7084-1796256000-1796342399@kuivialmacenes.es
SUMMARY:FRAGILE
DESCRIPTION:jueves 3 de diciembre / 21:00 \n\n\n\no:Francia.. \n\n\n\ne:Acceso libre.. \n\n\n\nTras un primer EP con gran aceptación (…About Going Home\, 2023) y una cincuentena de conciertos por Francia y Europa\, la banda de Angers reivindica una fuerte identidad con este nuevo disco\, en la confluencia del punk vanguardista\, la sensibilidad emo y los paisajes sonoros contemplativos del shoegaze.
URL:https://kuivialmacenes.es/event/fragile/
CATEGORIES:Gratuito,Sala
ATTACH;FMTTYPE=image/png:https://kuivialmacenes.es/wp-content/uploads/2026/03/FRAGILE.png
END:VEVENT
END:VCALENDAR